BEGIN:VCALENDAR
VERSION:2.0
PRODID:-//EUNIS community - ECPv6.15.20//NONSGML v1.0//EN
CALSCALE:GREGORIAN
METHOD:PUBLISH
X-ORIGINAL-URL:https://eunis.org
X-WR-CALDESC:Events for EUNIS community
REFRESH-INTERVAL;VALUE=DURATION:PT1H
X-Robots-Tag:noindex
X-PUBLISHED-TTL:PT1H
BEGIN:VTIMEZONE
TZID:Europe/Warsaw
BEGIN:DAYLIGHT
TZOFFSETFROM:+0100
TZOFFSETTO:+0200
TZNAME:CEST
DTSTART:20180325T010000
END:DAYLIGHT
BEGIN:STANDARD
TZOFFSETFROM:+0200
TZOFFSETTO:+0100
TZNAME:CET
DTSTART:20181028T010000
END:STANDARD
BEGIN:DAYLIGHT
TZOFFSETFROM:+0100
TZOFFSETTO:+0200
TZNAME:CEST
DTSTART:20190331T010000
END:DAYLIGHT
BEGIN:STANDARD
TZOFFSETFROM:+0200
TZOFFSETTO:+0100
TZNAME:CET
DTSTART:20191027T010000
END:STANDARD
BEGIN:DAYLIGHT
TZOFFSETFROM:+0100
TZOFFSETTO:+0200
TZNAME:CEST
DTSTART:20200329T010000
END:DAYLIGHT
BEGIN:STANDARD
TZOFFSETFROM:+0200
TZOFFSETTO:+0100
TZNAME:CET
DTSTART:20201025T010000
END:STANDARD
BEGIN:DAYLIGHT
TZOFFSETFROM:+0100
TZOFFSETTO:+0200
TZNAME:CEST
DTSTART:20210328T010000
END:DAYLIGHT
BEGIN:STANDARD
TZOFFSETFROM:+0200
TZOFFSETTO:+0100
TZNAME:CET
DTSTART:20211031T010000
END:STANDARD
BEGIN:DAYLIGHT
TZOFFSETFROM:+0100
TZOFFSETTO:+0200
TZNAME:CEST
DTSTART:20220327T010000
END:DAYLIGHT
BEGIN:STANDARD
TZOFFSETFROM:+0200
TZOFFSETTO:+0100
TZNAME:CET
DTSTART:20221030T010000
END:STANDARD
BEGIN:DAYLIGHT
TZOFFSETFROM:+0100
TZOFFSETTO:+0200
TZNAME:CEST
DTSTART:20230326T010000
END:DAYLIGHT
BEGIN:STANDARD
TZOFFSETFROM:+0200
TZOFFSETTO:+0100
TZNAME:CET
DTSTART:20231029T010000
END:STANDARD
BEGIN:DAYLIGHT
TZOFFSETFROM:+0100
TZOFFSETTO:+0200
TZNAME:CEST
DTSTART:20240331T010000
END:DAYLIGHT
BEGIN:STANDARD
TZOFFSETFROM:+0200
TZOFFSETTO:+0100
TZNAME:CET
DTSTART:20241027T010000
END:STANDARD
BEGIN:DAYLIGHT
TZOFFSETFROM:+0100
TZOFFSETTO:+0200
TZNAME:CEST
DTSTART:20250330T010000
END:DAYLIGHT
BEGIN:STANDARD
TZOFFSETFROM:+0200
TZOFFSETTO:+0100
TZNAME:CET
DTSTART:20251026T010000
END:STANDARD
BEGIN:DAYLIGHT
TZOFFSETFROM:+0100
TZOFFSETTO:+0200
TZNAME:CEST
DTSTART:20260329T010000
END:DAYLIGHT
BEGIN:STANDARD
TZOFFSETFROM:+0200
TZOFFSETTO:+0100
TZNAME:CET
DTSTART:20261025T010000
END:STANDARD
END:VTIMEZONE
BEGIN:VTIMEZONE
TZID:Europe/Berlin
BEGIN:DAYLIGHT
TZOFFSETFROM:+0100
TZOFFSETTO:+0200
TZNAME:CEST
DTSTART:20210328T010000
END:DAYLIGHT
BEGIN:STANDARD
TZOFFSETFROM:+0200
TZOFFSETTO:+0100
TZNAME:CET
DTSTART:20211031T010000
END:STANDARD
BEGIN:DAYLIGHT
TZOFFSETFROM:+0100
TZOFFSETTO:+0200
TZNAME:CEST
DTSTART:20220327T010000
END:DAYLIGHT
BEGIN:STANDARD
TZOFFSETFROM:+0200
TZOFFSETTO:+0100
TZNAME:CET
DTSTART:20221030T010000
END:STANDARD
BEGIN:DAYLIGHT
TZOFFSETFROM:+0100
TZOFFSETTO:+0200
TZNAME:CEST
DTSTART:20230326T010000
END:DAYLIGHT
BEGIN:STANDARD
TZOFFSETFROM:+0200
TZOFFSETTO:+0100
TZNAME:CET
DTSTART:20231029T010000
END:STANDARD
END:VTIMEZONE
BEGIN:VTIMEZONE
TZID:Europe/Stockholm
BEGIN:DAYLIGHT
TZOFFSETFROM:+0100
TZOFFSETTO:+0200
TZNAME:CEST
DTSTART:20160327T010000
END:DAYLIGHT
BEGIN:STANDARD
TZOFFSETFROM:+0200
TZOFFSETTO:+0100
TZNAME:CET
DTSTART:20161030T010000
END:STANDARD
BEGIN:DAYLIGHT
TZOFFSETFROM:+0100
TZOFFSETTO:+0200
TZNAME:CEST
DTSTART:20170326T010000
END:DAYLIGHT
BEGIN:STANDARD
TZOFFSETFROM:+0200
TZOFFSETTO:+0100
TZNAME:CET
DTSTART:20171029T010000
END:STANDARD
BEGIN:DAYLIGHT
TZOFFSETFROM:+0100
TZOFFSETTO:+0200
TZNAME:CEST
DTSTART:20180325T010000
END:DAYLIGHT
BEGIN:STANDARD
TZOFFSETFROM:+0200
TZOFFSETTO:+0100
TZNAME:CET
DTSTART:20181028T010000
END:STANDARD
BEGIN:DAYLIGHT
TZOFFSETFROM:+0100
TZOFFSETTO:+0200
TZNAME:CEST
DTSTART:20190331T010000
END:DAYLIGHT
BEGIN:STANDARD
TZOFFSETFROM:+0200
TZOFFSETTO:+0100
TZNAME:CET
DTSTART:20191027T010000
END:STANDARD
BEGIN:DAYLIGHT
TZOFFSETFROM:+0100
TZOFFSETTO:+0200
TZNAME:CEST
DTSTART:20200329T010000
END:DAYLIGHT
BEGIN:STANDARD
TZOFFSETFROM:+0200
TZOFFSETTO:+0100
TZNAME:CET
DTSTART:20201025T010000
END:STANDARD
BEGIN:DAYLIGHT
TZOFFSETFROM:+0100
TZOFFSETTO:+0200
TZNAME:CEST
DTSTART:20210328T010000
END:DAYLIGHT
BEGIN:STANDARD
TZOFFSETFROM:+0200
TZOFFSETTO:+0100
TZNAME:CET
DTSTART:20211031T010000
END:STANDARD
END:VTIMEZONE
BEGIN:VEVENT
DTSTART;VALUE=DATE:20251027
DTEND;VALUE=DATE:20251031
DTSTAMP:20260419T163833
CREATED:20251008T214932Z
LAST-MODIFIED:20251008T215241Z
UID:13512-1761523200-1761868799@eunis.org
SUMMARY:EUNIS at EDUCAUSE: 27 - 30 October 2025\, Nashville\, US
DESCRIPTION:Join the leaders\, innovators\, and changemakers who are shaping the future of technology and education. Discover forward-thinking strategies\, explore cutting-edge solutions\, and take part in conversations that inspire fresh ideas at the EDUCAUSE Annual Conference. \nDon’t miss the chance to say hello to Evelien Renders (EUNIS President\, SURF) \, Isabel Gallin (EUNIS Vice President\, KIT\, Germany) and Thierry Koscielniak (EUNIS Learning Technologies co-leader) who will be attending the event! \n 
URL:https://eunis.org/calendar/eunis-at-educause-27-30-october-2025-nashville-us/
CATEGORIES:Congress,Partner Event
ATTACH;FMTTYPE=image/jpeg:https://eunis.org/wp-content/uploads/2025/10/educause2025.jpg
END:VEVENT
BEGIN:VEVENT
DTSTART;VALUE=DATE:20250604
DTEND;VALUE=DATE:20250607
DTSTAMP:20260419T163833
CREATED:20240627T133346Z
LAST-MODIFIED:20241220T003438Z
UID:11473-1748995200-1749254399@eunis.org
SUMMARY:EUNIS25 Annual Congress
DESCRIPTION:EUNIS25 Annual Congress will be hosted by Ulster University\, UK on 4-6 June 2025 and the pre-Congress workshops on 3  June 2025. \nThe EUNIS 2025 Congress\, under  the theme Connecting communities and empowering creativity\, offers the opportunity to share the community insights and innovative approaches that shape the future of higher education. This year’s focus highlights the role of AI and its impact on the community\, addressing the pressing challenges and opportunities faced by higher education institutions (HEIs). \nMore information here.
URL:https://eunis.org/calendar/eunis25-annual-congress/
CATEGORIES:Congress
ATTACH;FMTTYPE=image/png:https://eunis.org/wp-content/uploads/2024/06/02_EUNIS_BELFAST_BANNER_v2_1280x720.png
END:VEVENT
BEGIN:VEVENT
DTSTART;VALUE=DATE:20250603
DTEND;VALUE=DATE:20250604
DTSTAMP:20260419T163833
CREATED:20241220T004017Z
LAST-MODIFIED:20251104T084652Z
UID:12026-1748908800-1748995199@eunis.org
SUMMARY:EUNIS25 pre-Congress workshops
DESCRIPTION:EUNIS pre-Congress workshops will be held on 3  June 2025 at Ulster University\, UK prior to EUNIS25 Annual Congress.  More information. \n 
URL:https://eunis.org/calendar/eunis25-pre-congress-workshops/
CATEGORIES:Congress,Workshops
ATTACH;FMTTYPE=image/png:https://eunis.org/wp-content/uploads/2024/12/LOGO_1080px-01-4.png
END:VEVENT
BEGIN:VEVENT
DTSTART;VALUE=DATE:20250205
DTEND;VALUE=DATE:20250206
DTSTAMP:20260419T163833
CREATED:20241102T214113Z
LAST-MODIFIED:20241206T134916Z
UID:11750-1738713600-1738799999@eunis.org
SUMMARY:ISE Education Technology Summit
DESCRIPTION:The ISE 2025 Education Technology Summit will delve into how to deliver truly intelligent digital learning. Intelligence isn’t inherent in the tools we use. Good learning design\, effective business processes and a commitment to equity and sustainability all play a part in delivering our desired learning outcomes. Book your seat! Apply for complimentary tickets for EUNIS members.
URL:https://eunis.org/calendar/ise-education-technology-summit/
CATEGORIES:Congress,Partner Event
ATTACH;FMTTYPE=image/jpeg:https://eunis.org/wp-content/uploads/2024/11/ETS-logo.jpg
END:VEVENT
BEGIN:VEVENT
DTSTART;TZID=Europe/Warsaw:20250123T130000
DTEND;TZID=Europe/Warsaw:20250123T150000
DTSTAMP:20260419T163833
CREATED:20241220T003322Z
LAST-MODIFIED:20251104T084853Z
UID:12021-1737637200-1737644400@eunis.org
SUMMARY:BM2024 survey training session
DESCRIPTION:EUNIS BenchHET Task Force online session on BM2024 survey launch.
URL:https://eunis.org/calendar/bm2024-survey-training-session/
CATEGORIES:Congress
ATTACH;FMTTYPE=image/png:https://eunis.org/wp-content/uploads/2020/03/eunis_benchmarking_logo_web.png
END:VEVENT
BEGIN:VEVENT
DTSTART;VALUE=DATE:20240605
DTEND;VALUE=DATE:20240608
DTSTAMP:20260419T163833
CREATED:20231218T225932Z
LAST-MODIFIED:20231218T230042Z
UID:10909-1717545600-1717804799@eunis.org
SUMMARY:EUNIS24 Congress
DESCRIPTION:EUNIS 2024 Congress will be held at the University of Athens\, Greece\, on 5 – 7 June 2024. \nIt provides an ideal forum to present and publish the latest results of research\, development\, and deployment of information technology and systems for Higher Education Institutions (HEIs). It also provides a unique opportunity to exchange perspectives and experiences in relation to the digital transformation of European Universities\, aiming to strategically assess challenges and opportunities in an era of new concerns about demographics\, mobility\, energy and digital sovereignty. \nFind more details here.
URL:https://eunis.org/calendar/eunis24-congress/
CATEGORIES:Congress
ATTACH;FMTTYPE=image/png:https://eunis.org/wp-content/uploads/2023/12/EUNIS24.png
END:VEVENT
BEGIN:VEVENT
DTSTART;VALUE=DATE:20230614
DTEND;VALUE=DATE:20230617
DTSTAMP:20260419T163833
CREATED:20220723T083952Z
LAST-MODIFIED:20220927T084503Z
UID:8435-1686700800-1686959999@eunis.org
SUMMARY:EUNIS23 Congress
DESCRIPTION:EUNIS 2023 Congress will be held at the University of Vigo\, Spain\, on 14 – 16 June 2023
URL:https://eunis.org/calendar/eunis23-congress/
CATEGORIES:Congress
ATTACH;FMTTYPE=image/png:https://eunis.org/wp-content/uploads/2022/07/vigo-logo.png
END:VEVENT
BEGIN:VEVENT
DTSTART;VALUE=DATE:20220601
DTEND;VALUE=DATE:20220604
DTSTAMP:20260419T163833
CREATED:20210617T061831Z
LAST-MODIFIED:20251104T085046Z
UID:7855-1654041600-1654300799@eunis.org
SUMMARY:EUNIS 2022 Annual Congress
DESCRIPTION:EUNIS 2022 Annual Congress will be held on 1-3 June 2022 at the University of Göttingen\, Germany. Read more here.
URL:https://eunis.org/calendar/eunis-2022-annual-congress/
CATEGORIES:Congress
ATTACH;FMTTYPE=image/png:https://eunis.org/wp-content/uploads/2021/06/promo-2022.png
END:VEVENT
BEGIN:VEVENT
DTSTART;TZID=Europe/Warsaw:20211001T110000
DTEND;TZID=Europe/Warsaw:20211001T120000
DTSTAMP:20260419T163833
CREATED:20210930T085720Z
LAST-MODIFIED:20251104T085148Z
UID:8019-1633086000-1633089600@eunis.org
SUMMARY:InfoSec SIG Coffee Break
DESCRIPTION:Join the EUNIS Information Security SIG to attend the regular InfoSec SIG Coffee Breaks – informal meetings for information exchange between the group members and others interested.
URL:https://eunis.org/calendar/infosec-sig-coffee-break/
CATEGORIES:Congress
ATTACH;FMTTYPE=image/png:https://eunis.org/wp-content/uploads/2020/04/eunis_info_security_logo_web.png
END:VEVENT
BEGIN:VEVENT
DTSTART;VALUE=DATE:20210609
DTEND;VALUE=DATE:20210612
DTSTAMP:20260419T163833
CREATED:20200715T135235Z
LAST-MODIFIED:20251104T085043Z
UID:7348-1623196800-1623455999@eunis.org
SUMMARY:EUNIS Annual Congress 2021
DESCRIPTION:EUNIS Annual Congress 2021 entitled A New Era of Digital Transformation: Challenges for Higher Education will be held in Virtual Athens\, Greece on 9-11 June 2021 online. \nRegister here. \nThe program of the event includes contributions in the following tracks: \n\nIT Leadership & Management\,\nICT Infrastructure & Security\,\nLearning\, Teaching and Student Experience\,\nSoftware Development\,\nOpenX & Interoperability\,\nICT in Research\,\nCovid-19 as an accelerator for digital transformation.\n\nBesides the high-quality technical program\, this event provides a unique opportunity for building relationships and sharing knowledge and experiences in the area of digital transformation in higher education\, with special consideration on the aftermath of the Covid-19 pandemic. \nYou can also register for the pre-Congress workshops held on 1-4 June. Check the schedule here and register here. \nEUNIS 2021 will be hosted by the Greek Universities Network (GUnet). We look forward to welcoming you in (virtual) Athens with a warm “yassou”\, literally “health to you”\, which is particularly relevant today! \nRead more on the event page. \nStay tuned and subscribe to the EUNIS newsletter here. \n 
URL:https://eunis.org/calendar/eunis-annual-congress-2021/
CATEGORIES:Congress
ATTACH;FMTTYPE=image/jpeg:https://eunis.org/wp-content/uploads/2020/12/eunis2021-banner-480x190-alt.jpg
END:VEVENT
BEGIN:VEVENT
DTSTART;VALUE=DATE:20210601
DTEND;VALUE=DATE:20210605
DTSTAMP:20260419T163833
CREATED:20210528T133554Z
LAST-MODIFIED:20210529T162427Z
UID:7782-1622505600-1622851199@eunis.org
SUMMARY:#EUNIS21 pre-Congress workshops
DESCRIPTION:Register for the #EUNIS21 pre-Congress online workshops on 1-4 June in Virtual  Athens! The event is open and free to attend! Check the inspiring programme:\n\n1 June: \nEverywhere and Nowhere: student mobility in the era of micro learning\, digital credentials and blockchain. \n2 June:\nBuilding up high and down under: inter-continental collaboration on enterprise architecture.\nHow to save millions by giving up spaghetti: true interoperability for the digital age.\n3 June:\nThe times they are changing – Doing BI and analytics during a pandemic.\nHome Alone: information security for remote learners and workers.\nHow can I learn as an avatar?\n4 June:\nLeading digital transformation: nurturing the ecosystem.\nIT Leaders’ Forum.\n\n\n\n\n\n\n\n\n\n\n\n\n\n\n\n\nThe workshops are organised by EUNIS Special Interest Groups\, Partners and sponsors.\n\nEUNIS brings a local flavour even when virtual. Relax and meet others on EUNIS’ own Greek island: a new experience in virtual networking! Register here.
URL:https://eunis.org/calendar/eunis21-pre-congress-workshops/
CATEGORIES:Congress
ATTACH;FMTTYPE=image/png:https://eunis.org/wp-content/uploads/2021/05/workshops.png
END:VEVENT
BEGIN:VEVENT
DTSTART;TZID=Europe/Warsaw:20201125T150000
DTEND;TZID=Europe/Warsaw:20201125T170000
DTSTAMP:20260419T163833
CREATED:20201015T140545Z
LAST-MODIFIED:20251104T084952Z
UID:7485-1606316400-1606323600@eunis.org
SUMMARY:EUNIS benchmarking annual online workshop
DESCRIPTION:EUNIS BencHEIT annual workshop will be held online\, on Thursday 25 of November at 15.00-17.00 CET. Read the agenda of the workshop and register here. If you have any comments or questions\, please do not hesitate to contact us on bm-pg@eunis.org.
URL:https://eunis.org/calendar/eunis-benchmarking-annual-online-workshop/
CATEGORIES:Congress,Workshops
ATTACH;FMTTYPE=image/png:https://eunis.org/wp-content/uploads/2020/03/eunis_benchmarking_logo_web.png
END:VEVENT
BEGIN:VEVENT
DTSTART;VALUE=DATE:20201027
DTEND;VALUE=DATE:20201030
DTSTAMP:20260419T163833
CREATED:20200908T114502Z
LAST-MODIFIED:20200908T114502Z
UID:7409-1603756800-1604015999@eunis.org
SUMMARY:EDUCAUSE 2020 online
DESCRIPTION:EDUCAUSE annual conference will be held online on 27-29 October 2020. More information here.
URL:https://eunis.org/calendar/educause-2020-online/
CATEGORIES:Congress,Partner Event
ATTACH;FMTTYPE=image/jpeg:https://eunis.org/wp-content/uploads/2020/09/educause2020online.jpg
END:VEVENT
BEGIN:VEVENT
DTSTART;VALUE=DATE:20200610
DTEND;VALUE=DATE:20200614
DTSTAMP:20260419T163833
CREATED:20170621T152917Z
LAST-MODIFIED:20200605T161729Z
UID:5018-1591747200-1592092799@eunis.org
SUMMARY:EUNIS 2020 Annual Congress: on-line
DESCRIPTION:Due to the COVID-19 outbreak\, EUNIS has decided to cancel the face-to-face event for the Annual Congress that was planned for 10–12 June at the University of Helsinki and replace it by an online event at the same dates! \nSee the schedule of the #EUNIS20 in “Virtual Helsinki” and register here. The event is free and open to all HE community. \nPlease note\, there are pre-Congress on-line workshops offered by our Special Interest Groups already on 8-9 June.
URL:https://eunis.org/calendar/eunis-2020-annual-congress/
CATEGORIES:Congress
ATTACH;FMTTYPE=image/jpeg:https://eunis.org/wp-content/uploads/2020/05/EUNIS-VIRTUAL-NEWSLETTER-HEADING-small_banner.jpg
END:VEVENT
BEGIN:VEVENT
DTSTART;VALUE=DATE:20191121
DTEND;VALUE=DATE:20191122
DTSTAMP:20260419T163833
CREATED:20191028T141107Z
LAST-MODIFIED:20251104T084451Z
UID:6652-1574294400-1574380799@eunis.org
SUMMARY:EUNIS BencHEIT Task Force annual workshop
DESCRIPTION:EUNIS BencHEIT Task Force annual benchmarking workshop will be held on 21st of November 2019 at the Aristotle University of Thessaloniki\, Greece. Read more here
URL:https://eunis.org/calendar/eunis-bencheit-task-force-annual-workshop/
CATEGORIES:Congress,Workshops
ATTACH;FMTTYPE=image/png:https://eunis.org/wp-content/uploads/2019/10/benchmarking_fit-480x190.png
END:VEVENT
BEGIN:VEVENT
DTSTART;VALUE=DATE:20191014
DTEND;VALUE=DATE:20191018
DTSTAMP:20260419T163833
CREATED:20190718T110716Z
LAST-MODIFIED:20190718T110716Z
UID:6555-1571011200-1571356799@eunis.org
SUMMARY:EDUCAUSE Annual Conference
DESCRIPTION:The EDUCAUSE Annual Conference will be held on 14-17 October in Chicago\, US. Read more here.
URL:https://eunis.org/calendar/educause-annual-conference-2/
CATEGORIES:Congress,Partner Event
ATTACH;FMTTYPE=image/png:https://eunis.org/wp-content/uploads/2019/07/educause_2019.png
END:VEVENT
BEGIN:VEVENT
DTSTART;VALUE=DATE:20190616
DTEND;VALUE=DATE:20190621
DTSTAMP:20260419T163833
CREATED:20190407T074752Z
LAST-MODIFIED:20190407T074940Z
UID:6382-1560643200-1561075199@eunis.org
SUMMARY:TNC19 Conference: 16-20 June 2019\, Tallin\, Estonia
DESCRIPTION:On behalf of GÉANT\, EUNIS Partner organisation\, we invite to the TNC19 Conference on 16-20 June 2019 in Tallin\, Estonia. \nThis year’s conference theme\, Forging Digital Societies\, is inspired by two main concepts: the idea that computer networks\, by supporting human interactions\, help to create and forge digital societies is combined with the innovative model of Estonia’s e-residency programme. \nRead more here.
URL:https://eunis.org/calendar/tnc19-conference-16-20-june-2019-tallin-estonia/
CATEGORIES:Congress,Partner Event
ATTACH;FMTTYPE=image/png:https://eunis.org/wp-content/uploads/2019/04/tnc_post.png
END:VEVENT
BEGIN:VEVENT
DTSTART;VALUE=DATE:20190605
DTEND;VALUE=DATE:20190608
DTSTAMP:20260419T163833
CREATED:20170621T152111Z
LAST-MODIFIED:20181228T082718Z
UID:5016-1559692800-1559951999@eunis.org
SUMMARY:EUNIS 2019 Annual Congress
DESCRIPTION:EUNIS 2019 Annual Congress with the theme Campus for the future will be held on 5-7 June 2019  at the NTNU: Norwegian University of Science and Technology\, Trondheim\, Norway. For more information visit the Congress website.
URL:https://eunis.org/calendar/eunis-2019-annual-congress/
CATEGORIES:Congress
ATTACH;FMTTYPE=image/png:https://eunis.org/wp-content/uploads/2018/06/logo_eunis2019-e1528811353345.png
END:VEVENT
BEGIN:VEVENT
DTSTART;VALUE=DATE:20190604
DTEND;VALUE=DATE:20190605
DTSTAMP:20260419T163833
CREATED:20190406T140324Z
LAST-MODIFIED:20251104T084923Z
UID:6379-1559606400-1559692799@eunis.org
SUMMARY:EUNIS pre-Congress workshops: 4 June 2019\, NTNU\, Trondheim\, Norway
DESCRIPTION:On June 4 interesting pre-Congress workshops organised by the EUNIS Special Interest Groups (SIGs) are planned. \nOn 4 June\, 2019 the following workshops will be held: \n\nActive learning in interactive spaces\nAdding value to the university through Business Intelligence and analytics\nStudent mobility: progress made and challenges to beat\nArchitecting your future\nHow to hack a Web Application\nEUNIS19 IT Leaders Forum meeting\n\nWe invite you to register here both for the Congress and the workshops. Read more here.
URL:https://eunis.org/calendar/eunis-pre-congress-workshops-4-june-2019-ntnu-trondheim-norway/
CATEGORIES:Congress,Workshops
ATTACH;FMTTYPE=image/png:https://eunis.org/wp-content/uploads/2019/01/lsp_trondheim.png
END:VEVENT
BEGIN:VEVENT
DTSTART;VALUE=DATE:20190519
DTEND;VALUE=DATE:20190522
DTSTAMP:20260419T163833
CREATED:20190406T135626Z
LAST-MODIFIED:20190406T135626Z
UID:6377-1558224000-1558483199@eunis.org
SUMMARY:Annual ECCA Conference: 19-21 May\, 2019
DESCRIPTION:European Campus Card Assosiation (ECCA)\, EUNIS partner organisation\, invites for the annual conference on 19-21 May 2019 in Linz\, Austria\, entitled Campus eID of the Future. \nThis year’s conference agenda is designed to provide attendees with a range of presentations and workshops that discusses and evaluates the latest in campus ID technologies\, trends and solutions. Whether you are looking to stay up-to-date with emerging trends and solutions or just want to network with your professional peers and leading service providers from Europe and beyond\, this is a conference for you. \nRead more here.
URL:https://eunis.org/calendar/annual-ecca-conference-19-21-may-2019/
CATEGORIES:Congress,Partner Event
ATTACH;FMTTYPE=image/png:https://eunis.org/wp-content/uploads/2018/10/ecca.png
END:VEVENT
BEGIN:VEVENT
DTSTART;VALUE=DATE:20181126
DTEND;VALUE=DATE:20181128
DTSTAMP:20260419T163833
CREATED:20180910T141643Z
LAST-MODIFIED:20251104T085119Z
UID:5899-1543190400-1543363199@eunis.org
SUMMARY:EUNIS Annual BencHEIT workshop
DESCRIPTION:EUNIS Annual BencHEIT workshop will be held in Zürich\, Switzerland on 26th-27th of November 2018. Read more information and register here.
URL:https://eunis.org/calendar/eunis-annual-bencheit-workshop/
CATEGORIES:Congress,Workshops
END:VEVENT
BEGIN:VEVENT
DTSTART;VALUE=DATE:20181030
DTEND;VALUE=DATE:20181103
DTSTAMP:20260419T163833
CREATED:20180123T083311Z
LAST-MODIFIED:20180227T110035Z
UID:5543-1540857600-1541203199@eunis.org
SUMMARY:EDUCAUSE 2018
DESCRIPTION:EDUCAUSE 2018 Annual conference\, 30 Oct – 2 Nov\, Denver\, US \nThe EDUCAUSE Annual Conference calls together the best thinking in higher education IT to become even better at what we do. This is where professionals and technology providers from around the world gather to network\, share ideas\, grow professionally\, and discover solutions to today’s challenges. It’s the largest gathering of your peers…people you can relate to\, learn from\, and stay connected to throughout the year.
URL:https://eunis.org/calendar/educause-2018/
CATEGORIES:Congress,Partner Event
ATTACH;FMTTYPE=image/jpeg:https://eunis.org/wp-content/uploads/2018/01/educause.jpg
END:VEVENT
BEGIN:VEVENT
DTSTART;VALUE=DATE:20180610
DTEND;VALUE=DATE:20180615
DTSTAMP:20260419T163833
CREATED:20170828T095417Z
LAST-MODIFIED:20180227T105746Z
UID:5153-1528588800-1529020799@eunis.org
SUMMARY:TNC18 Networking Conference
DESCRIPTION:TNC18 Networking Conference\, 10-14 June 2018\, Trondheim\, Norway \nTNC is the European research networking annual conference. It brings together decision makers\, managers\, networking and collaboration specialists\, plus identity and access management experts from all major European networking and research organisations\, universities\, worldwide sister institutions\, as well as many industry representatives. \nTNC18 will focus on a variety of thought-provoking sub-themes such as: the power of the Internet\, the responsibility of sustainability and delivery\, the power of data analytics\, the creation of intelligent complexity\, and networking at the speed of science \nRead more here.
URL:https://eunis.org/calendar/tnc18-networking-conference/
CATEGORIES:Congress,Partner Event
ATTACH;FMTTYPE=image/png:https://eunis.org/wp-content/uploads/2017/08/TNC_2018.png
END:VEVENT
BEGIN:VEVENT
DTSTART;VALUE=DATE:20180606
DTEND;VALUE=DATE:20180609
DTSTAMP:20260419T163833
CREATED:20170607T092304Z
LAST-MODIFIED:20180227T105036Z
UID:4876-1528243200-1528502399@eunis.org
SUMMARY:EUNIS 2018 Annual Congress
DESCRIPTION:EUNIS 2018 Congress\, 6th-8th June\, 2018\, Paris\, France. The pre-Congress workshops are planned for 5th of June. \nThe EUNIS Annual Congress with the theme “EUNIS 2018 – Coming of Age in the Digital World” presents an opportunity for sharing of experience amongst international specialists\, users\, researchers\, decision-makers\, and teaching staff from all over Europe. The event provides an ideal audience to present and publish the latest results of research\, development\, and deployment of Information Technology in HEIs. \n 
URL:https://eunis.org/calendar/eunis-2018-congress/
CATEGORIES:Congress
ATTACH;FMTTYPE=image/png:https://eunis.org/wp-content/uploads/2017/06/bandeau_eunis_18_vdef-1-e1518087514400.png
END:VEVENT
BEGIN:VEVENT
DTSTART;VALUE=DATE:20180527
DTEND;VALUE=DATE:20180530
DTSTAMP:20260419T163833
CREATED:20180227T104352Z
LAST-MODIFIED:20180227T104408Z
UID:5602-1527379200-1527638399@eunis.org
SUMMARY:ECCA Annual Conference 2018
DESCRIPTION:The European Campus Card Association Conference 2018 will be hosted by Wageningen University and Research in the Netherlands\, from May 27th to 29th 2018. \nPresentations and workshops will be presented by expert speakers from across the world\, in particular Europe and the US\, covering a wide range of issues relating to campus cards and more. In addition a tour of the Wageningen University campus card system will also take place. \n  \nFor further information on the European Campus Card Association and conference updates visit the ECCA website or email at info@ecca.eu
URL:https://eunis.org/calendar/ecca-annual-conference-2018/
CATEGORIES:Congress,Partner Event
ATTACH;FMTTYPE=image/png:https://eunis.org/wp-content/uploads/2018/02/ecca_logo.png
END:VEVENT
BEGIN:VEVENT
DTSTART;VALUE=DATE:20180405
DTEND;VALUE=DATE:20180407
DTSTAMP:20260419T163833
CREATED:20180213T084709Z
LAST-MODIFIED:20180213T084759Z
UID:5574-1522886400-1523059199@eunis.org
SUMMARY:EUA 2018 Annual Conference
DESCRIPTION:The 2018 EUA Annual Conference\, under the theme Engaged and responsible universities shaping Europe\, will discuss universities’ pivotal role in generating knowledge\, developing intercultural understanding and fostering civic engagement through their core missions. \nIt will provide participants an opportunity to explore how universities across Europe demonstrate their social responsibility by ensuring that their activities contribute to shaping society at large. The conference will include examples of institutional practices\, national and European policies and initiatives that bear evidence of today’s engaged and responsible universities. \nThe Conference will be held on 5-6 April 2018 at the University of Zurich\, Switzerland. \nRead the programme here. \n 
URL:https://eunis.org/calendar/eua-2018-annual-conference/
CATEGORIES:Congress,Partner Event
ATTACH;FMTTYPE=image/jpeg:https://eunis.org/wp-content/uploads/2018/02/EUA_logo_official_en.jpg
END:VEVENT
BEGIN:VEVENT
DTSTART;VALUE=DATE:20180306
DTEND;VALUE=DATE:20180308
DTSTAMP:20260419T163833
CREATED:20180227T113940Z
LAST-MODIFIED:20180227T114406Z
UID:5611-1520294400-1520467199@eunis.org
SUMMARY:Digifest 2018
DESCRIPTION:Digifest will be held on 6-7 March 2018 in Birmingham\, UK \nDigifest\, held by Jisc\, offers a unique opportunity to see\, hear and share the latest thinking. It aims to inform\, inspire and prepare you for the digital challenges ahead. Read more here.
URL:https://eunis.org/calendar/digifest-2018/
CATEGORIES:Congress,Partner Event
ATTACH;FMTTYPE=image/png:https://eunis.org/wp-content/uploads/2018/02/digifest18-wordmark-feature.png
END:VEVENT
BEGIN:VEVENT
DTSTART;VALUE=DATE:20180206
DTEND;VALUE=DATE:20180210
DTSTAMP:20260419T163833
CREATED:20180123T131537Z
LAST-MODIFIED:20180123T131537Z
UID:5547-1517875200-1518220799@eunis.org
SUMMARY:ISE 2018
DESCRIPTION:Integrated Systems Europe 2018\, 6-9 February\, Amsterdam ISE 2018
URL:https://eunis.org/calendar/ise-2018/
CATEGORIES:Congress,Partner Event
ATTACH;FMTTYPE=image/png:https://eunis.org/wp-content/uploads/2018/01/ise_2018-1.png
END:VEVENT
BEGIN:VEVENT
DTSTART;VALUE=DATE:20171108
DTEND;VALUE=DATE:20171111
DTSTAMP:20260419T163833
CREATED:20170831T130416Z
LAST-MODIFIED:20170901T081537Z
UID:5171-1510099200-1510358399@eunis.org
SUMMARY:UCISA annual conference
DESCRIPTION:UCISA CISG-PCMG17 annual conference “Everything changes” \n8 – 10 November\, Manchester\, UK \nMore information here
URL:https://eunis.org/calendar/ucisa-annual-conference/
CATEGORIES:Congress,Partner Event
ATTACH;FMTTYPE=image/gif:https://eunis.org/wp-content/uploads/2017/06/ucisa_logo.gif
END:VEVENT
BEGIN:VEVENT
DTSTART;TZID=Europe/Stockholm:20171107T110000
DTEND;TZID=Europe/Stockholm:20171107T160000
DTSTAMP:20260419T163833
CREATED:20170621T150757Z
LAST-MODIFIED:20251104T090146Z
UID:5009-1510052400-1510070400@eunis.org
SUMMARY:The A_Z Learning Analytics workshop: 7 Nov 2017\, Manchester\, UK
DESCRIPTION:EUNIS Learning & Teaching Task Force and the BI Task Force are running a workshop: \nThe A-Z of Learning Analytics\, Manchester\, UK\, 7th November 2017 \nThe workshop will explore how we can make use of data to improve learning.  Some of the things we will be talking about include: \n\nAssessment analytics\nBalanced scorecards\nCurriculum design (data-driven)\nDashboards (student & institutional)\nEthics\nFitness apps for learning\nGaming approaches\n… and much more\n\nRead more and register here. \nThe event is free for HEIs who are members of EUNIS & UCISA as well as registered delegates at UCISA  CISG-PCMG17 annual conference 2017.  \nThis is a EUNIS event supported by UCISA. 
URL:https://eunis.org/calendar/learning-analytics-workshop-7-nov-2017/
CATEGORIES:Congress,Partner Event,Workshops
END:VEVENT
END:VCALENDAR