BEGIN:VCALENDAR
VERSION:2.0
PRODID:-//EUNIS community - ECPv6.15.20//NONSGML v1.0//EN
CALSCALE:GREGORIAN
METHOD:PUBLISH
X-ORIGINAL-URL:https://eunis.org
X-WR-CALDESC:Events for EUNIS community
REFRESH-INTERVAL;VALUE=DURATION:PT1H
X-Robots-Tag:noindex
X-PUBLISHED-TTL:PT1H
BEGIN:VTIMEZONE
TZID:Europe/Warsaw
BEGIN:DAYLIGHT
TZOFFSETFROM:+0100
TZOFFSETTO:+0200
TZNAME:CEST
DTSTART:20210328T010000
END:DAYLIGHT
BEGIN:STANDARD
TZOFFSETFROM:+0200
TZOFFSETTO:+0100
TZNAME:CET
DTSTART:20211031T010000
END:STANDARD
BEGIN:DAYLIGHT
TZOFFSETFROM:+0100
TZOFFSETTO:+0200
TZNAME:CEST
DTSTART:20220327T010000
END:DAYLIGHT
BEGIN:STANDARD
TZOFFSETFROM:+0200
TZOFFSETTO:+0100
TZNAME:CET
DTSTART:20221030T010000
END:STANDARD
BEGIN:DAYLIGHT
TZOFFSETFROM:+0100
TZOFFSETTO:+0200
TZNAME:CEST
DTSTART:20230326T010000
END:DAYLIGHT
BEGIN:STANDARD
TZOFFSETFROM:+0200
TZOFFSETTO:+0100
TZNAME:CET
DTSTART:20231029T010000
END:STANDARD
END:VTIMEZONE
BEGIN:VEVENT
DTSTART;TZID=Europe/Warsaw:20220401T100000
DTEND;TZID=Europe/Warsaw:20220401T120000
DTSTAMP:20260424T221425
CREATED:20220223T124737Z
LAST-MODIFIED:20251104T085207Z
UID:8294-1648807200-1648814400@eunis.org
SUMMARY:EUNIS & GÉANT GDPR online workshop
DESCRIPTION:EUNIS & GÉANT invites you to the GDPR online workshop. This two-hour event will address how GDPR regulations (Schrem-2) change and impact cloud services delivery and security. The focus of the workshop will be on practical approaches\, tools and policies to deal with legislative and security aspects concerning cloud service delivery. \nRead more and register here.
URL:https://eunis.org/calendar/eunis-geant-gdpr-online-workshop/
CATEGORIES:Partner Event,Workshops
ATTACH;FMTTYPE=image/png:https://eunis.org/wp-content/uploads/2020/02/cloud_eunis_logo_web.png
END:VEVENT
END:VCALENDAR