BEGIN:VCALENDAR
VERSION:2.0
PRODID:-//EUNIS community - ECPv6.15.20//NONSGML v1.0//EN
CALSCALE:GREGORIAN
METHOD:PUBLISH
X-WR-CALNAME:EUNIS community
X-ORIGINAL-URL:https://eunis.org
X-WR-CALDESC:Events for EUNIS community
REFRESH-INTERVAL;VALUE=DURATION:PT1H
X-Robots-Tag:noindex
X-PUBLISHED-TTL:PT1H
BEGIN:VTIMEZONE
TZID:Europe/Warsaw
BEGIN:DAYLIGHT
TZOFFSETFROM:+0100
TZOFFSETTO:+0200
TZNAME:CEST
DTSTART:20240331T010000
END:DAYLIGHT
BEGIN:STANDARD
TZOFFSETFROM:+0200
TZOFFSETTO:+0100
TZNAME:CET
DTSTART:20241027T010000
END:STANDARD
BEGIN:DAYLIGHT
TZOFFSETFROM:+0100
TZOFFSETTO:+0200
TZNAME:CEST
DTSTART:20250330T010000
END:DAYLIGHT
BEGIN:STANDARD
TZOFFSETFROM:+0200
TZOFFSETTO:+0100
TZNAME:CET
DTSTART:20251026T010000
END:STANDARD
BEGIN:DAYLIGHT
TZOFFSETFROM:+0100
TZOFFSETTO:+0200
TZNAME:CEST
DTSTART:20260329T010000
END:DAYLIGHT
BEGIN:STANDARD
TZOFFSETFROM:+0200
TZOFFSETTO:+0100
TZNAME:CET
DTSTART:20261025T010000
END:STANDARD
END:VTIMEZONE
BEGIN:VEVENT
DTSTART;TZID=Europe/Warsaw:20250411T100000
DTEND;TZID=Europe/Warsaw:20250411T120000
DTSTAMP:20260420T182219
CREATED:20250331T125638Z
LAST-MODIFIED:20251104T084711Z
UID:12769-1744365600-1744372800@eunis.org
SUMMARY:GÉANT & EUNIS online workshop
DESCRIPTION:Joint GÉANT & EUNIS Cloud Management SIG online workshop on OCRE 2024 Framework  and GÉANT Cloud Strategy. Registration and more information here.
URL:https://eunis.org/calendar/geant-eunis-online-workshop/
CATEGORIES:Partner Event
ATTACH;FMTTYPE=image/png:https://eunis.org/wp-content/uploads/2020/02/cloud_eunis_logo_web.png
END:VEVENT
END:VCALENDAR