BEGIN:VCALENDAR
VERSION:2.0
PRODID:-//EUNIS community - ECPv6.15.20//NONSGML v1.0//EN
CALSCALE:GREGORIAN
METHOD:PUBLISH
X-WR-CALNAME:EUNIS community
X-ORIGINAL-URL:https://eunis.org
X-WR-CALDESC:Events for EUNIS community
REFRESH-INTERVAL;VALUE=DURATION:PT1H
X-Robots-Tag:noindex
X-PUBLISHED-TTL:PT1H
BEGIN:VTIMEZONE
TZID:Europe/Warsaw
BEGIN:DAYLIGHT
TZOFFSETFROM:+0100
TZOFFSETTO:+0200
TZNAME:CEST
DTSTART:20240331T010000
END:DAYLIGHT
BEGIN:STANDARD
TZOFFSETFROM:+0200
TZOFFSETTO:+0100
TZNAME:CET
DTSTART:20241027T010000
END:STANDARD
BEGIN:DAYLIGHT
TZOFFSETFROM:+0100
TZOFFSETTO:+0200
TZNAME:CEST
DTSTART:20250330T010000
END:DAYLIGHT
BEGIN:STANDARD
TZOFFSETFROM:+0200
TZOFFSETTO:+0100
TZNAME:CET
DTSTART:20251026T010000
END:STANDARD
BEGIN:DAYLIGHT
TZOFFSETFROM:+0100
TZOFFSETTO:+0200
TZNAME:CEST
DTSTART:20260329T010000
END:DAYLIGHT
BEGIN:STANDARD
TZOFFSETFROM:+0200
TZOFFSETTO:+0100
TZNAME:CET
DTSTART:20261025T010000
END:STANDARD
END:VTIMEZONE
BEGIN:VEVENT
DTSTART;VALUE=DATE:20250917
DTEND;VALUE=DATE:20250920
DTSTAMP:20260420T101418
CREATED:20251003T113519Z
LAST-MODIFIED:20251003T132931Z
UID:13498-1758067200-1758326399@eunis.org
SUMMARY:CoDAU Congress
DESCRIPTION:EUNIS has been invited to give a virtual panel presentation at the CoDAU Congress (17-18 September 2025) in Milan — the annual national event that brings together directors and senior staff of Italy’s university administrations. This year’s theme focused on balancing competition and collaboration among institutions\, and the role of shared infrastructure in addressing complex challenges such as student mobility\, digitalisation\, and strategic coordination. \nRead the summary from this meeting.
URL:https://eunis.org/calendar/codau-congress/
CATEGORIES:Partner Event
ATTACH;FMTTYPE=image/jpeg:https://eunis.org/wp-content/uploads/2025/10/06_EUNIS_SLIDER_CODAU_CONGRESS-01-01-scaled.jpg
END:VEVENT
END:VCALENDAR