BEGIN:VCALENDAR
VERSION:2.0
PRODID:-//EUNIS community - ECPv6.15.20//NONSGML v1.0//EN
CALSCALE:GREGORIAN
METHOD:PUBLISH
X-WR-CALNAME:EUNIS community
X-ORIGINAL-URL:https://eunis.org
X-WR-CALDESC:Events for EUNIS community
REFRESH-INTERVAL;VALUE=DURATION:PT1H
X-Robots-Tag:noindex
X-PUBLISHED-TTL:PT1H
BEGIN:VTIMEZONE
TZID:Europe/Warsaw
BEGIN:DAYLIGHT
TZOFFSETFROM:+0100
TZOFFSETTO:+0200
TZNAME:CEST
DTSTART:20240331T010000
END:DAYLIGHT
BEGIN:STANDARD
TZOFFSETFROM:+0200
TZOFFSETTO:+0100
TZNAME:CET
DTSTART:20241027T010000
END:STANDARD
BEGIN:DAYLIGHT
TZOFFSETFROM:+0100
TZOFFSETTO:+0200
TZNAME:CEST
DTSTART:20250330T010000
END:DAYLIGHT
BEGIN:STANDARD
TZOFFSETFROM:+0200
TZOFFSETTO:+0100
TZNAME:CET
DTSTART:20251026T010000
END:STANDARD
BEGIN:DAYLIGHT
TZOFFSETFROM:+0100
TZOFFSETTO:+0200
TZNAME:CEST
DTSTART:20260329T010000
END:DAYLIGHT
BEGIN:STANDARD
TZOFFSETFROM:+0200
TZOFFSETTO:+0100
TZNAME:CET
DTSTART:20261025T010000
END:STANDARD
END:VTIMEZONE
BEGIN:VEVENT
DTSTART;VALUE=DATE:20251111
DTEND;VALUE=DATE:20251113
DTSTAMP:20260420T063942
CREATED:20251103T124739Z
LAST-MODIFIED:20251103T124739Z
UID:13719-1762819200-1762991999@eunis.org
SUMMARY:SURF Education Days
DESCRIPTION:Evelien Renders (EUNIS President\, SURF) will represent EUNIS at SURF Education Days  – the annual event where education and ict come together to push boundaries.  This is the chance to share knowledge\, network and make an impact together by immersing in the latest technologies\, inspiring sessions and a look at the future of education in an increasingly digital world.
URL:https://eunis.org/calendar/surf-education-days/
CATEGORIES:Partner Event
ATTACH;FMTTYPE=image/jpeg:https://eunis.org/wp-content/uploads/2025/11/surf-education-days.jpg
END:VEVENT
END:VCALENDAR