BEGIN:VCALENDAR
VERSION:2.0
PRODID:-//EUNIS community - ECPv6.15.20//NONSGML v1.0//EN
CALSCALE:GREGORIAN
METHOD:PUBLISH
X-ORIGINAL-URL:https://eunis.org
X-WR-CALDESC:Events for EUNIS community
REFRESH-INTERVAL;VALUE=DURATION:PT1H
X-Robots-Tag:noindex
X-PUBLISHED-TTL:PT1H
BEGIN:VTIMEZONE
TZID:Europe/Warsaw
BEGIN:DAYLIGHT
TZOFFSETFROM:+0100
TZOFFSETTO:+0200
TZNAME:CEST
DTSTART:20240331T010000
END:DAYLIGHT
BEGIN:STANDARD
TZOFFSETFROM:+0200
TZOFFSETTO:+0100
TZNAME:CET
DTSTART:20241027T010000
END:STANDARD
BEGIN:DAYLIGHT
TZOFFSETFROM:+0100
TZOFFSETTO:+0200
TZNAME:CEST
DTSTART:20250330T010000
END:DAYLIGHT
BEGIN:STANDARD
TZOFFSETFROM:+0200
TZOFFSETTO:+0100
TZNAME:CET
DTSTART:20251026T010000
END:STANDARD
BEGIN:DAYLIGHT
TZOFFSETFROM:+0100
TZOFFSETTO:+0200
TZNAME:CEST
DTSTART:20260329T010000
END:DAYLIGHT
BEGIN:STANDARD
TZOFFSETFROM:+0200
TZOFFSETTO:+0100
TZNAME:CET
DTSTART:20261025T010000
END:STANDARD
END:VTIMEZONE
BEGIN:VEVENT
DTSTART;VALUE=DATE:20251020
DTEND;VALUE=DATE:20251025
DTSTAMP:20260420T123021
CREATED:20250908T210637Z
LAST-MODIFIED:20251104T084334Z
UID:13501-1760918400-1761350399@eunis.org
SUMMARY:EUNIS Enterprise Architecture week
DESCRIPTION:EUNIS Enterprise Architecture Special Interest Group organises an Enterprise Architecture week in Leipzig on 20-24 October 2025. \nThis year’s central theme is assessing the maturity of value streams in relation to key business processes — such as Student Success and Lifelong Learning — where individual capabilities are brought together into an integrated whole. The assessment also considers dependencies across the HERM domains (DRM\, BRM\, TRM\, ARM)\, with students and teachers placed at the core. \nCheck out the agenda and register. \n 
URL:https://eunis.org/calendar/eunis-enterprise-architecture-week/
CATEGORIES:Workshops
ATTACH;FMTTYPE=image/jpeg:https://eunis.org/wp-content/uploads/2025/10/06_EUNIS_SLIDER_PATRIK-01-scaled.jpg
END:VEVENT
END:VCALENDAR