BEGIN:VCALENDAR
VERSION:2.0
PRODID:-//EUNIS community - ECPv6.15.20//NONSGML v1.0//EN
CALSCALE:GREGORIAN
METHOD:PUBLISH
X-ORIGINAL-URL:https://eunis.org
X-WR-CALDESC:Events for EUNIS community
REFRESH-INTERVAL;VALUE=DURATION:PT1H
X-Robots-Tag:noindex
X-PUBLISHED-TTL:PT1H
BEGIN:VTIMEZONE
TZID:Europe/Warsaw
BEGIN:DAYLIGHT
TZOFFSETFROM:+0100
TZOFFSETTO:+0200
TZNAME:CEST
DTSTART:20250330T010000
END:DAYLIGHT
BEGIN:STANDARD
TZOFFSETFROM:+0200
TZOFFSETTO:+0100
TZNAME:CET
DTSTART:20251026T010000
END:STANDARD
BEGIN:DAYLIGHT
TZOFFSETFROM:+0100
TZOFFSETTO:+0200
TZNAME:CEST
DTSTART:20260329T010000
END:DAYLIGHT
BEGIN:STANDARD
TZOFFSETFROM:+0200
TZOFFSETTO:+0100
TZNAME:CET
DTSTART:20261025T010000
END:STANDARD
BEGIN:DAYLIGHT
TZOFFSETFROM:+0100
TZOFFSETTO:+0200
TZNAME:CEST
DTSTART:20270328T010000
END:DAYLIGHT
BEGIN:STANDARD
TZOFFSETFROM:+0200
TZOFFSETTO:+0100
TZNAME:CET
DTSTART:20271031T010000
END:STANDARD
END:VTIMEZONE
BEGIN:VEVENT
DTSTART;VALUE=DATE:20260916
DTEND;VALUE=DATE:20260918
DTSTAMP:20260419T224705
CREATED:20260203T150558Z
LAST-MODIFIED:20260203T151112Z
UID:14740-1789516800-1789689599@eunis.org
SUMMARY:Learning Impact Europe
DESCRIPTION:Hosted by Aristotle University of Thessaloniki\, 1EdTech’s Learning Impact Europe 2026 unites those shaping the future of digital education. \nEUNIS members can benefit from the partner rate.  \nDon’t miss the Call for Proposals: deadline 4 March. \nCheck more information.
URL:https://eunis.org/calendar/learning-impact-europe-2/
CATEGORIES:Partner Event
ATTACH;FMTTYPE=image/png:https://eunis.org/wp-content/uploads/2026/02/Leraning-impact-europe.png
END:VEVENT
BEGIN:VEVENT
DTSTART;VALUE=DATE:20261019
DTEND;VALUE=DATE:20261024
DTSTAMP:20260419T224705
CREATED:20260223T103905Z
LAST-MODIFIED:20260223T104432Z
UID:14799-1792368000-1792799999@eunis.org
SUMMARY:Enterprise Architecture Week 2026
DESCRIPTION:Following last year’s success\, Enterprise Architecture Week will be returning in October 2026! \nThis year\, the event will be hosted in the beautiful city of Zagreb\, Croatia\, bringing the EA community together once again for an inspiring week of exchange\, learning\, and collaboration. \n📢 Further details and the full programme will be announced soon. Stay tuned!
URL:https://eunis.org/calendar/enterprise-architecture-week-2026/
LOCATION:Zagreb\, Croatia\, Croatia (Local Name: Hrvatska)
CATEGORIES:Special Interest Group,Workshops
ATTACH;FMTTYPE=image/png:https://eunis.org/wp-content/uploads/2026/02/08_EUNIS_SIG_LOGOS_v2-10.png
END:VEVENT
END:VCALENDAR