BEGIN:VCALENDAR
VERSION:2.0
PRODID:-//EUNIS community - ECPv6.15.20//NONSGML v1.0//EN
CALSCALE:GREGORIAN
METHOD:PUBLISH
X-WR-CALNAME:EUNIS community
X-ORIGINAL-URL:https://eunis.org
X-WR-CALDESC:Events for EUNIS community
REFRESH-INTERVAL;VALUE=DURATION:PT1H
X-Robots-Tag:noindex
X-PUBLISHED-TTL:PT1H
BEGIN:VTIMEZONE
TZID:Europe/Warsaw
BEGIN:DAYLIGHT
TZOFFSETFROM:+0100
TZOFFSETTO:+0200
TZNAME:CEST
DTSTART:20120325T010000
END:DAYLIGHT
BEGIN:STANDARD
TZOFFSETFROM:+0200
TZOFFSETTO:+0100
TZNAME:CET
DTSTART:20121028T010000
END:STANDARD
BEGIN:DAYLIGHT
TZOFFSETFROM:+0100
TZOFFSETTO:+0200
TZNAME:CEST
DTSTART:20130331T010000
END:DAYLIGHT
BEGIN:STANDARD
TZOFFSETFROM:+0200
TZOFFSETTO:+0100
TZNAME:CET
DTSTART:20131027T010000
END:STANDARD
BEGIN:DAYLIGHT
TZOFFSETFROM:+0100
TZOFFSETTO:+0200
TZNAME:CEST
DTSTART:20140330T010000
END:DAYLIGHT
BEGIN:STANDARD
TZOFFSETFROM:+0200
TZOFFSETTO:+0100
TZNAME:CET
DTSTART:20141026T010000
END:STANDARD
END:VTIMEZONE
BEGIN:VEVENT
DTSTART;TZID=Europe/Warsaw:20131204T100000
DTEND;TZID=Europe/Warsaw:20131204T170000
DTSTAMP:20260420T231100
CREATED:20131113T091905Z
LAST-MODIFIED:20251104T084910Z
UID:1360-1386151200-1386176400@eunis.org
SUMMARY:Bencheit Task Force workshop
DESCRIPTION:Theme: “How to implement European wide core indicator” \nFree registration at http://www.bencheit.info/workshop2013.html
URL:https://eunis.org/calendar/bencheit-working-group-workshop/
LOCATION:AMUE\, 103\, boulevard Saint-Michel – Paris 5ème\, Paris\, France
CATEGORIES:Workshops
ATTACH;FMTTYPE=image/jpeg:https://eunis.org/wp-content/uploads/2013/11/bencheit.jpg
END:VEVENT
END:VCALENDAR