BEGIN:VCALENDAR
VERSION:2.0
PRODID:-//EUNIS community - ECPv6.15.20//NONSGML v1.0//EN
CALSCALE:GREGORIAN
METHOD:PUBLISH
X-WR-CALNAME:EUNIS community
X-ORIGINAL-URL:https://eunis.org
X-WR-CALDESC:Events for EUNIS community
REFRESH-INTERVAL;VALUE=DURATION:PT1H
X-Robots-Tag:noindex
X-PUBLISHED-TTL:PT1H
BEGIN:VTIMEZONE
TZID:Europe/Warsaw
BEGIN:DAYLIGHT
TZOFFSETFROM:+0100
TZOFFSETTO:+0200
TZNAME:CEST
DTSTART:20220327T010000
END:DAYLIGHT
BEGIN:STANDARD
TZOFFSETFROM:+0200
TZOFFSETTO:+0100
TZNAME:CET
DTSTART:20221030T010000
END:STANDARD
BEGIN:DAYLIGHT
TZOFFSETFROM:+0100
TZOFFSETTO:+0200
TZNAME:CEST
DTSTART:20230326T010000
END:DAYLIGHT
BEGIN:STANDARD
TZOFFSETFROM:+0200
TZOFFSETTO:+0100
TZNAME:CET
DTSTART:20231029T010000
END:STANDARD
BEGIN:DAYLIGHT
TZOFFSETFROM:+0100
TZOFFSETTO:+0200
TZNAME:CEST
DTSTART:20240331T010000
END:DAYLIGHT
BEGIN:STANDARD
TZOFFSETFROM:+0200
TZOFFSETTO:+0100
TZNAME:CET
DTSTART:20241027T010000
END:STANDARD
END:VTIMEZONE
BEGIN:VEVENT
DTSTART;TZID=Europe/Warsaw:20231019T113000
DTEND;TZID=Europe/Warsaw:20231019T130000
DTSTAMP:20260421T085549
CREATED:20231018T135915Z
LAST-MODIFIED:20251104T085018Z
UID:10764-1697715000-1697720400@eunis.org
SUMMARY:European Student Card update
DESCRIPTION:Online meeting on the update on European Student Card. You’ll hear the general information about the ESC\, the involvement of EUNIS in the ESC governance model and also some technical updates of the IT Infrastructure will be raised. Read more and register here.
URL:https://eunis.org/calendar/european-student-card-update/
CATEGORIES:Webinars
ATTACH;FMTTYPE=image/png:https://eunis.org/wp-content/uploads/2021/07/eunis_student_mobility_logo_web.png
END:VEVENT
END:VCALENDAR