BEGIN:VCALENDAR
VERSION:2.0
PRODID:-//EUNIS community - ECPv6.15.20//NONSGML v1.0//EN
CALSCALE:GREGORIAN
METHOD:PUBLISH
X-ORIGINAL-URL:https://eunis.org
X-WR-CALDESC:Events for EUNIS community
REFRESH-INTERVAL;VALUE=DURATION:PT1H
X-Robots-Tag:noindex
X-PUBLISHED-TTL:PT1H
BEGIN:VTIMEZONE
TZID:Europe/Warsaw
BEGIN:DAYLIGHT
TZOFFSETFROM:+0100
TZOFFSETTO:+0200
TZNAME:CEST
DTSTART:20230326T010000
END:DAYLIGHT
BEGIN:STANDARD
TZOFFSETFROM:+0200
TZOFFSETTO:+0100
TZNAME:CET
DTSTART:20231029T010000
END:STANDARD
BEGIN:DAYLIGHT
TZOFFSETFROM:+0100
TZOFFSETTO:+0200
TZNAME:CEST
DTSTART:20240331T010000
END:DAYLIGHT
BEGIN:STANDARD
TZOFFSETFROM:+0200
TZOFFSETTO:+0100
TZNAME:CET
DTSTART:20241027T010000
END:STANDARD
BEGIN:DAYLIGHT
TZOFFSETFROM:+0100
TZOFFSETTO:+0200
TZNAME:CEST
DTSTART:20250330T010000
END:DAYLIGHT
BEGIN:STANDARD
TZOFFSETFROM:+0200
TZOFFSETTO:+0100
TZNAME:CET
DTSTART:20251026T010000
END:STANDARD
END:VTIMEZONE
BEGIN:VEVENT
DTSTART;VALUE=DATE:20241009
DTEND;VALUE=DATE:20241012
DTSTAMP:20260420T152429
CREATED:20240912T213947Z
LAST-MODIFIED:20240912T213947Z
UID:11548-1728432000-1728691199@eunis.org
SUMMARY:Learning Impact Europe
DESCRIPTION:Leaders from the EUNIS community will be hosting sessions and sharing success stories and case studies at the  Learning Impact Europe hosted by UOC in Barcelona on 9 -11 October. \nEUNIS reinforces partnership with the 1EdTech community as an official supporter of this event and EUNIS members have been granted a promo code. Apply for it now by emailing to: gferrell@1edtech.org.
URL:https://eunis.org/calendar/learning-impact-europe/
CATEGORIES:Partner Event
ATTACH;FMTTYPE=image/png:https://eunis.org/wp-content/uploads/2024/07/learining-impact.png
END:VEVENT
BEGIN:VEVENT
DTSTART;TZID=Europe/Warsaw:20241029T100000
DTEND;TZID=Europe/Warsaw:20241029T120000
DTSTAMP:20260420T152429
CREATED:20240912T214506Z
LAST-MODIFIED:20251104T084943Z
UID:11552-1730196000-1730203200@eunis.org
SUMMARY:AI implementations\, results and effects: online workshop
DESCRIPTION:EUNIS SIGs Information Security and Cloud Management organise online workshop on AI implementations\, results and effects which will address various interfaces and LLMs\, their functionality and features. Read more and register here.\n 
URL:https://eunis.org/calendar/ai-implementations-results-and-effects-online-workshop/
LOCATION:EUNIS Special Interest Group
CATEGORIES:Workshops
ATTACH;FMTTYPE=image/png:https://eunis.org/wp-content/uploads/2020/04/eunis_info_security_logo_web.png
END:VEVENT
END:VCALENDAR