BEGIN:VCALENDAR
VERSION:2.0
PRODID:-//EUNIS community - ECPv6.15.20//NONSGML v1.0//EN
CALSCALE:GREGORIAN
METHOD:PUBLISH
X-ORIGINAL-URL:https://eunis.org
X-WR-CALDESC:Events for EUNIS community
REFRESH-INTERVAL;VALUE=DURATION:PT1H
X-Robots-Tag:noindex
X-PUBLISHED-TTL:PT1H
BEGIN:VTIMEZONE
TZID:Europe/Warsaw
BEGIN:DAYLIGHT
TZOFFSETFROM:+0100
TZOFFSETTO:+0200
TZNAME:CEST
DTSTART:20230326T010000
END:DAYLIGHT
BEGIN:STANDARD
TZOFFSETFROM:+0200
TZOFFSETTO:+0100
TZNAME:CET
DTSTART:20231029T010000
END:STANDARD
BEGIN:DAYLIGHT
TZOFFSETFROM:+0100
TZOFFSETTO:+0200
TZNAME:CEST
DTSTART:20240331T010000
END:DAYLIGHT
BEGIN:STANDARD
TZOFFSETFROM:+0200
TZOFFSETTO:+0100
TZNAME:CET
DTSTART:20241027T010000
END:STANDARD
BEGIN:DAYLIGHT
TZOFFSETFROM:+0100
TZOFFSETTO:+0200
TZNAME:CEST
DTSTART:20250330T010000
END:DAYLIGHT
BEGIN:STANDARD
TZOFFSETFROM:+0200
TZOFFSETTO:+0100
TZNAME:CET
DTSTART:20251026T010000
END:STANDARD
END:VTIMEZONE
BEGIN:VEVENT
DTSTART;TZID=Europe/Warsaw:20241114T150000
DTEND;TZID=Europe/Warsaw:20241114T170000
DTSTAMP:20260420T133224
CREATED:20241107T180401Z
LAST-MODIFIED:20241107T180401Z
UID:11774-1731596400-1731603600@eunis.org
SUMMARY:Shaping Tomorrow’s Education: Strategies for Delivering High-Quality Teaching and Learning in a Transforming World
DESCRIPTION:The EDEN network will hold its annual open and digital learning week on 11-15 November. This is a free virtual event with daily webinars and panel sessions. \nEUNIS will participate in the panel: Shaping Tomorrow’s Education: Strategies for Delivering High-Quality Teaching and Learning in a Transforming World\,  on Thursday 14 November 15.00 CET. \nRead more on European Open and Digital Learning Week (EODLW) 2024 and register here.
URL:https://eunis.org/calendar/shaping-tomorrows-education-strategies-for-delivering-high-quality-teaching-and-learning-in-a-transforming-world/
CATEGORIES:Partner Event
ATTACH;FMTTYPE=image/png:https://eunis.org/wp-content/uploads/2024/11/eden.png
END:VEVENT
BEGIN:VEVENT
DTSTART;TZID=Europe/Warsaw:20241119T100000
DTEND;TZID=Europe/Warsaw:20241119T123000
DTSTAMP:20260420T133224
CREATED:20240912T214754Z
LAST-MODIFIED:20251104T084925Z
UID:11547-1732010400-1732019400@eunis.org
SUMMARY:Unlock the Power of AI in Higher Education online workshop
DESCRIPTION:EUNIS SIGs Information Security and Cloud Management online workshop on AI prompt engineering: Unlock the Power of AI in Higher Education.  More information here.
URL:https://eunis.org/calendar/ai-prompt-engineering-online-workshop/
CATEGORIES:Workshops
ATTACH;FMTTYPE=image/jpeg:https://eunis.org/wp-content/uploads/2024/11/AI.jpg
END:VEVENT
END:VCALENDAR