BEGIN:VCALENDAR
VERSION:2.0
PRODID:-//EUNIS community - ECPv6.15.20//NONSGML v1.0//EN
CALSCALE:GREGORIAN
METHOD:PUBLISH
X-ORIGINAL-URL:https://eunis.org
X-WR-CALDESC:Events for EUNIS community
REFRESH-INTERVAL;VALUE=DURATION:PT1H
X-Robots-Tag:noindex
X-PUBLISHED-TTL:PT1H
BEGIN:VTIMEZONE
TZID:Europe/Warsaw
BEGIN:DAYLIGHT
TZOFFSETFROM:+0100
TZOFFSETTO:+0200
TZNAME:CEST
DTSTART:20240331T010000
END:DAYLIGHT
BEGIN:STANDARD
TZOFFSETFROM:+0200
TZOFFSETTO:+0100
TZNAME:CET
DTSTART:20241027T010000
END:STANDARD
BEGIN:DAYLIGHT
TZOFFSETFROM:+0100
TZOFFSETTO:+0200
TZNAME:CEST
DTSTART:20250330T010000
END:DAYLIGHT
BEGIN:STANDARD
TZOFFSETFROM:+0200
TZOFFSETTO:+0100
TZNAME:CET
DTSTART:20251026T010000
END:STANDARD
BEGIN:DAYLIGHT
TZOFFSETFROM:+0100
TZOFFSETTO:+0200
TZNAME:CEST
DTSTART:20260329T010000
END:DAYLIGHT
BEGIN:STANDARD
TZOFFSETFROM:+0200
TZOFFSETTO:+0100
TZNAME:CET
DTSTART:20261025T010000
END:STANDARD
END:VTIMEZONE
BEGIN:VEVENT
DTSTART;VALUE=DATE:20250205
DTEND;VALUE=DATE:20250206
DTSTAMP:20260420T085002
CREATED:20241102T214113Z
LAST-MODIFIED:20241206T134916Z
UID:11750-1738713600-1738799999@eunis.org
SUMMARY:ISE Education Technology Summit
DESCRIPTION:The ISE 2025 Education Technology Summit will delve into how to deliver truly intelligent digital learning. Intelligence isn’t inherent in the tools we use. Good learning design\, effective business processes and a commitment to equity and sustainability all play a part in delivering our desired learning outcomes. Book your seat! Apply for complimentary tickets for EUNIS members.
URL:https://eunis.org/calendar/ise-education-technology-summit/
CATEGORIES:Congress,Partner Event
ATTACH;FMTTYPE=image/jpeg:https://eunis.org/wp-content/uploads/2024/11/ETS-logo.jpg
END:VEVENT
BEGIN:VEVENT
DTSTART;TZID=Europe/Warsaw:20250212T140000
DTEND;TZID=Europe/Warsaw:20250212T160000
DTSTAMP:20260420T085002
CREATED:20250125T164130Z
LAST-MODIFIED:20251104T084832Z
UID:12103-1739368800-1739376000@eunis.org
SUMMARY:Micro-credentials: definitions\, developments\, implementations
DESCRIPTION:EUNIS SIG Mobility and Digital Credentials invites to online workshop on recent developments in the area of Micro credentials and Diplomas in Europe on 12 February from 14.00 to 16.00 CET. \nCheck the programme and register.
URL:https://eunis.org/calendar/micro-credentials-definitions-developments-implementations/
CATEGORIES:Workshops
ATTACH;FMTTYPE=image/png:https://eunis.org/wp-content/uploads/2025/01/mobility-and-digital-credentials.png
END:VEVENT
BEGIN:VEVENT
DTSTART;TZID=Europe/Warsaw:20250219T100000
DTEND;TZID=Europe/Warsaw:20250219T123000
DTSTAMP:20260420T085002
CREATED:20250125T172113Z
LAST-MODIFIED:20251104T084800Z
UID:12119-1739959200-1739968200@eunis.org
SUMMARY:Inclusion & Sustainability for AI
DESCRIPTION:The EUNIS SIG AI4ALL invites you to an online workshop on Inclusion & Sustainability for AI\, on 19 February\, 10.00 to 12.30 CET.  Check the programme and register now.
URL:https://eunis.org/calendar/ai-and-inclusion-ai-and-sustainability-and-connections-dependencies/
CATEGORIES:Workshops
ATTACH;FMTTYPE=image/png:https://eunis.org/wp-content/uploads/2025/01/AIALL.png
END:VEVENT
END:VCALENDAR